BEGIN:VCALENDAR
VERSION:2.0
PRODID:-//Meno House Clinic - ECPv6.15.17.1//NONSGML v1.0//EN
CALSCALE:GREGORIAN
METHOD:PUBLISH
X-WR-CALNAME:Meno House Clinic
X-ORIGINAL-URL:https://menohouse-clinic.com
X-WR-CALDESC:Veranstaltungen für Meno House Clinic
REFRESH-INTERVAL;VALUE=DURATION:PT1H
X-Robots-Tag:noindex
X-PUBLISHED-TTL:PT1H
BEGIN:VTIMEZONE
TZID:Europe/Berlin
BEGIN:DAYLIGHT
TZOFFSETFROM:+0100
TZOFFSETTO:+0200
TZNAME:CEST
DTSTART:20250330T010000
END:DAYLIGHT
BEGIN:STANDARD
TZOFFSETFROM:+0200
TZOFFSETTO:+0100
TZNAME:CET
DTSTART:20251026T010000
END:STANDARD
BEGIN:DAYLIGHT
TZOFFSETFROM:+0100
TZOFFSETTO:+0200
TZNAME:CEST
DTSTART:20260329T010000
END:DAYLIGHT
BEGIN:STANDARD
TZOFFSETFROM:+0200
TZOFFSETTO:+0100
TZNAME:CET
DTSTART:20261025T010000
END:STANDARD
BEGIN:DAYLIGHT
TZOFFSETFROM:+0100
TZOFFSETTO:+0200
TZNAME:CEST
DTSTART:20270328T010000
END:DAYLIGHT
BEGIN:STANDARD
TZOFFSETFROM:+0200
TZOFFSETTO:+0100
TZNAME:CET
DTSTART:20271031T010000
END:STANDARD
END:VTIMEZONE
BEGIN:VEVENT
DTSTART;TZID=Europe/Berlin:20260515T170000
DTEND;TZID=Europe/Berlin:20260515T210000
DTSTAMP:20260421T190219
CREATED:20260228T144029Z
LAST-MODIFIED:20260228T144950Z
UID:618-1778864400-1778878800@menohouse-clinic.com
SUMMARY:MenoSalon
DESCRIPTION:Jeden 3. Freitag des Monats öffnen sich die Türen des Ballsaals zum MenoSalon. \nIm Geist der einst von Frauen initiierten Salon Kultur\, bitten wir zu einer Soirée\, die sich weiblichem Wandel und Neuordnung widmet. \nWir plaudern\, lachen\, erkennen uns wieder\, und beenden den Abend leicht und mit der Gewissheit: \n„Wie herrlich es ist\, eine Frau zu sein!“
URL:https://menohouse-clinic.com/veranstaltung/menosalon-mai-2026/
LOCATION:MenoHouse Clinic\, Menzelstraße 11\, 14467 Potsdam\, Germany
ATTACH;FMTTYPE=image/png:https://menohouse-clinic.com/wp-content/uploads/2026/02/meno-society-square.png
END:VEVENT
BEGIN:VEVENT
DTSTART;TZID=Europe/Berlin:20260619T170000
DTEND;TZID=Europe/Berlin:20260619T210000
DTSTAMP:20260421T190219
CREATED:20260228T144128Z
LAST-MODIFIED:20260228T145142Z
UID:617-1781888400-1781902800@menohouse-clinic.com
SUMMARY:MenoSalon
DESCRIPTION:Jeden 3. Freitag des Monats öffnen sich die Türen des Ballsaals zum MenoSalon. \nIm Geist der einst von Frauen initiierten Salon Kultur\, bitten wir zu einer Soirée\, die sich weiblichem Wandel und Neuordnung widmet. \nWir plaudern\, lachen\, erkennen uns wieder\, und beenden den Abend leicht und mit der Gewissheit: \n„Wie herrlich es ist\, eine Frau zu sein!“
URL:https://menohouse-clinic.com/veranstaltung/menosalon-juni-26/
LOCATION:MenoHouse Clinic\, Menzelstraße 11\, 14467 Potsdam\, Germany
ATTACH;FMTTYPE=image/png:https://menohouse-clinic.com/wp-content/uploads/2026/02/meno-society-square.png
END:VEVENT
END:VCALENDAR